BEGIN:VCALENDAR
VERSION:2.0
PRODID:-//ChamberMaster//Event Calendar 2.0//EN
METHOD:PUBLISH
X-PUBLISHED-TTL:P3D
REFRESH-INTERVAL:P3D
CALSCALE:GREGORIAN
BEGIN:VEVENT
DTSTART:20231213T190000Z
DTEND:20231213T200000Z
X-MICROSOFT-CDO-ALLDAYEVENT:FALSE
SUMMARY:Author Matt Fitzpatrick
DESCRIPTION:Join us to hear local author Matt Fitzpatrick\, author of The Justin McGee Trilogy\, talk about his latest mystery novel\, Forsythia's Ride\, which is set in Chatham!
X-ALT-DESC;FMTTYPE=text/html:<span style="background-color:rgb(202\, 230\, 202)\; color:rgb(0\, 0\, 0)\; font-family:georgia\,times new roman\,times\,serif">Join us to hear local author Matt Fitzpatrick\, author of The Justin McGee Trilogy\, talk about his latest mystery novel\,&nbsp\;</span><em>Forsythia&#39\;s Ride</em><span style="background-color:rgb(202\, 230\, 202)\; color:rgb(0\, 0\, 0)\; font-family:georgia\,times new roman\,times\,serif">\, which is set in Chatham!</span>
LOCATION:Eldredge Public Library 564 Main Street Chatham MA 02633
UID:e.2437.21097
SEQUENCE:3
DTSTAMP:20260420T171548Z
URL:https://business.chathaminfo.com/events/details/author-matt-fitzpatrick-21097
END:VEVENT

END:VCALENDAR
