BEGIN:VCALENDAR
VERSION:2.0
PRODID:-//ChamberMaster//Event Calendar 2.0//EN
METHOD:PUBLISH
X-PUBLISHED-TTL:P3D
REFRESH-INTERVAL:P3D
CALSCALE:GREGORIAN
BEGIN:VEVENT
DTSTART;VALUE=DATE:20230908
DTEND;VALUE=DATE:20230909
TRANSP:TRANSPARENT
X-MICROSOFT-CDO-ALLDAYEVENT:TRUE
SUMMARY:Baskerville: A Sherlock Holmes Mystery
DESCRIPTION:Ken Ludwig's\n\nBASKERVILLE: A SHERLOCK HOMES MYSTERY\n\nDates: August 30 - September 9\n\n\n\nStyle: Comedic Mystery Play\n\nRun Time: 2 Hours and 15 Minutes (Including One Intermission)\n\nAges: 12 and up\n\n(There is no official rating system for live theatre. We invite you to use your own judgment.)\n\nBy Ken Ludwig\n\nbased on the novel by Sir Arthur Conan Doyle\n\nShow Summary\n\nKen Ludwig?s transforms Arthur Conan Doyle?s classic The Hound of the Baskervilles into a murderously funny adventure.\n\nWho killed Sir Charles Baskerville? Is there truth to the legend of a supernatural hound? This certainly sounds like a case for the world?s most famous detective! In this fast-paced comedy mystery\, the action moves from the shady streets of London to the haunted moors of Devonshire.\n\nJoin Sherlock Holmes & Dr. Watson as they try to escape a dizzying web of clues\, disguises\, and deceit as they are supported by three actors who portray more than 40 characters in a delightful mix of slapstick and adventure ? demanding impossible quick changes\, a Downtown Abbey?s worth of British dialects\, and athletic physical comedy.\n\n?Ken Ludwig?s Baskerville: A Sherlock Holmes Mystery? was originally produced by McCarter Theatre Center\, Princeton\, NJ\n\nEmily Mann\, Artistic Director\; Timothy J. Shields\, Managing Director\n\nand\n\nArena Stage\, Washington\, DC\n\nMolly Smith\, Artistic Director\; Edgar Dobie\, Executive Producer
X-ALT-DESC;FMTTYPE=text/html:<h2>Ken Ludwig&#39\;s<br />\nBASKERVILLE: A SHERLOCK HOMES MYSTERY</h2>\n\n<p><span style="font-size:16px">Dates: August 30 -&nbsp\;September 9<br />\n<br />\nStyle:&nbsp\;Comedic Mystery Play<br />\nRun Time:&nbsp\;2 Hours and 15 Minutes (Including One Intermission)<br />\nAges: 12 and up</span><br />\n<em><span style="color:rgb(102\, 102\, 102)\; font-size:11px">(There is no official rating system for live theatre. We invite you to use your own judgment.)</span></em></p>\n\n<p><em>By Ken Ludwig<br />\nbased on the novel by Sir Arthur Conan Doyle</em></p>\n\n<h3>Show Summary</h3>\n\n<p>Ken Ludwig?s transforms Arthur Conan Doyle?s classic&nbsp\;<em>The Hound of the Baskervilles</em>&nbsp\;into a murderously funny adventure.</p>\n\n<p>Who killed Sir Charles Baskerville? Is there truth to the legend of a supernatural hound? This certainly sounds like a case for the world?s most famous detective! In this fast-paced comedy mystery\, the action moves from the shady streets of London to the haunted moors of Devonshire.</p>\n\n<p>Join Sherlock Holmes &amp\; Dr. Watson as they try to escape a dizzying web of clues\, disguises\, and deceit as they are supported by three actors who portray more than 40 characters in a delightful mix of slapstick and adventure ? demanding impossible quick changes\, a&nbsp\;<em>Downtown Abbey?s</em>&nbsp\;worth of British dialects\, and athletic physical comedy.</p>\n\n<p><em>?Ken Ludwig?s Baskerville: A Sherlock Holmes Mystery? was originally produced by McCarter Theatre Center\, Princeton\, NJ<br />\nEmily Mann\, Artistic Director\; Timothy J. Shields\, Managing Director<br />\nand<br />\nArena Stage\, Washington\, DC<br />\nMolly Smith\, Artistic Director\; Edgar Dobie\, Executive Producer</em></p>\n
LOCATION:Cape Playhouse 820 Main Street/Rte. 6A Dennis\, MA 02638
UID:e.2437.20204
SEQUENCE:3
DTSTAMP:20260421T012720Z
URL:https://business.chathaminfo.com/events/details/baskerville-a-sherlock-holmes-mystery-09-08-2023-20204
END:VEVENT

END:VCALENDAR
