BEGIN:VCALENDAR
VERSION:2.0
PRODID:-//ChamberMaster//Event Calendar 2.0//EN
METHOD:PUBLISH
X-PUBLISHED-TTL:P3D
REFRESH-INTERVAL:P3D
CALSCALE:GREGORIAN
BEGIN:VEVENT
DTSTART:20230625T160000Z
DTEND:20230625T200000Z
X-MICROSOFT-CDO-ALLDAYEVENT:FALSE
SUMMARY:Centennial House Tour
DESCRIPTION:The Chatham Historical Society will be hosting a Centennial House Tour as part of our Centennial Year Celebration! For those looking to enjoy the stunning views and beautiful gardens of some of Chatham's most gorgeous homes\, this event is not to be missed! Join us for an exciting tour of five beautiful and historic homes across Chatham\, plus an included visit to the Old Atwood House one of the oldest and most charming houses in all of Chatham. The funds raised will go to the Chatham Historical Society and to maintaining the Atwood Museum. Reservations are required for this event.\n\n\n	5 Gorgeous Houses (plus the Old Atwood House)\n	Purchase tickets online. A digital ticket with addresses and locations of the houses will be emailed the day before the tour\n	Parking at each home will be directed by parking assistants\n	Protective booties will be provided and are required to wear while inside the homes\n	Tickets are non-refundable unless the event is cancelled.\n	In the event of heavy rain\, the event will be cancelled.
X-ALT-DESC;FMTTYPE=text/html:<p>The Chatham Historical Society will be hosting a Centennial House Tour as part of our Centennial Year Celebration! For those looking to enjoy the stunning views and beautiful gardens of some of Chatham&rsquo\;s most gorgeous homes\, this event is not to be missed! Join us for an exciting tour of five beautiful and historic homes across Chatham\, plus an included visit to the Old Atwood House&ndash\;one of the oldest and most charming houses in all of Chatham. The funds raised will go to the Chatham Historical Society and to maintaining the Atwood Museum. Reservations are required for this event.</p>\n\n<ul>\n	<li>5 Gorgeous Houses (plus the Old Atwood House)</li>\n	<li>Purchase tickets online. A digital ticket with addresses and locations of the houses will be emailed the day before the tour</li>\n	<li>Parking at each home will be directed by parking assistants</li>\n	<li>Protective booties will be provided and are required to wear while inside the homes</li>\n	<li>Tickets are non-refundable unless the event is cancelled.</li>\n	<li>In the event of heavy rain\, the event will be cancelled.</li>\n</ul>\n
LOCATION:Atwood Museum 347 Stage Harbor Rd.\, Chatham\, MA 02633
UID:e.2437.20304
SEQUENCE:3
DTSTAMP:20260421T120731Z
URL:https://business.chathaminfo.com/events/details/centennial-house-tour-20304
END:VEVENT

END:VCALENDAR
