BEGIN:VCALENDAR
VERSION:2.0
PRODID:-//ChamberMaster//Event Calendar 2.0//EN
METHOD:PUBLISH
X-PUBLISHED-TTL:P3D
REFRESH-INTERVAL:P3D
CALSCALE:GREGORIAN
BEGIN:VEVENT
DTSTART:20260609T210000Z
DTEND:20260609T220000Z
X-MICROSOFT-CDO-ALLDAYEVENT:FALSE
SUMMARY:Chatham and 100 Years in the Cape Cod Baseball League
DESCRIPTION:Mike Richard will touch on the early history of baseball on Cape Cod dating back to the 1800s\, and the beginning of the Cape Cod Baseball League in 1923 (of which Chatham was among the four original teams).  He will discuss the 8 former Cape League players who made it to the Major League Baseball Hall of Fame\, mention some of the outstanding baseball players of the past who began on the Cape and went on to star in the pros\, and also cover some unique and interesting facts about the Chatham A's and Anglers over the years. At the end of the lecture\, there will be a baseball trivia quiz on former Chatham players who later starred in Major League Baseball.
X-ALT-DESC;FMTTYPE=text/html:<span style="color:rgb(62\, 62\, 62)\; font-family:open sans\,arial\,sans-serif\; font-size:16px">Mike Richard will touch on the early history of baseball on Cape Cod dating back to the 1800s\, and the beginning of the Cape Cod Baseball League in 1923 (of which Chatham was among the four original teams).&nbsp\; He will discuss the 8 former Cape League players who made it to the Major League Baseball Hall of Fame\, mention some of the outstanding baseball players of the past who began on the Cape and went on to star in the pros\, and also cover some unique and interesting facts about the Chatham A&rsquo\;s and Anglers over the years. At the end of the lecture\, there will be a baseball trivia quiz on former Chatham players who later starred in Major League Baseball.</span>
LOCATION:Mural Barn\, Atwood Museum
UID:e.2437.29433
SEQUENCE:3
DTSTAMP:20260424T065309Z
URL:https://business.chathaminfo.com/events/details/chatham-and-100-years-in-the-cape-cod-baseball-league-29433
END:VEVENT

END:VCALENDAR
