BEGIN:VCALENDAR
VERSION:2.0
PRODID:-//ChamberMaster//Event Calendar 2.0//EN
METHOD:PUBLISH
X-PUBLISHED-TTL:P3D
REFRESH-INTERVAL:P3D
CALSCALE:GREGORIAN
BEGIN:VEVENT
DTSTART:20231202T220000Z
DTEND:20231203T000000Z
X-MICROSOFT-CDO-ALLDAYEVENT:FALSE
SUMMARY:Chatham Garden Club Presents Festival of Trees at the Atwood Museum
DESCRIPTION:Make your plans now to attend the Chatham Garden Club's Festival of Trees on Saturday\, December 2nd from 5:00pm to 7:00pm at the Atwood House Museum\, located at 347 Stage Harbor Road in Chatham. \n\n\n\nWe will deck the  halls and open the doors to a magical evening of music\, refreshments\, and beautifully and uniquely decorated trees of all sizes.  Guests can vote on their favorite tree and have a chance to win a fully trimmed tree.  \n\n\n\nTickets for the evening reception from 5:00pm-7:00pm are $25.00 per person\n\n\n\nThis event is sponsored by Cape Cod 5 bank.
X-ALT-DESC;FMTTYPE=text/html:<br />\n<br />\nMake your plans now to attend the Chatham Garden Club&#39\;s Festival of Trees on Saturday\, December 2nd from 5:00pm to 7:00pm at the Atwood House Museum\, located at 347 Stage Harbor Road in Chatham.&nbsp\;<br />\n<br />\nWe will deck the&nbsp\; halls and open the doors to a magical evening of music\, refreshments\, and beautifully and uniquely decorated trees of all sizes.&nbsp\; Guests can vote on their favorite tree and have a chance to win a fully trimmed tree.&nbsp\;&nbsp\;<br />\n<br />\nTickets for the evening reception from 5:00pm-7:00pm are $25.00 per person<br />\n<br />\nThis event is sponsored by Cape Cod 5 bank.
LOCATION:Atwood Museum 347 Stage Harbor Rd.\, Chatham\, MA
UID:e.2437.21020
SEQUENCE:3
DTSTAMP:20260420T122435Z
URL:https://business.chathaminfo.com/events/details/chatham-garden-club-presents-festival-of-trees-at-the-atwood-museum-21020
END:VEVENT

END:VCALENDAR
