BEGIN:VCALENDAR
VERSION:2.0
PRODID:-//ChamberMaster//Event Calendar 2.0//EN
METHOD:PUBLISH
X-PUBLISHED-TTL:P3D
REFRESH-INTERVAL:P3D
CALSCALE:GREGORIAN
BEGIN:VEVENT
DTSTART:20260612T140000Z
DTEND:20260612T200000Z
X-MICROSOFT-CDO-ALLDAYEVENT:FALSE
SUMMARY:Chatham Railroad Museum
DESCRIPTION:Welcome to the Chatham Railroad Museum!\n\nWe are located in the beautifully restored 1887 railroad depot that served Chatham residents and visitors for nearly fifty years.\n\nWe have many exhibits including a diorama of the yard layout in 1915 shows the depot with a turntable and the light industry in the area. Our "Chatham Railroad" exhibit has models of the South and West Chatham stations. \n\nThe agent's office has hands on Morse code simulator\, typewriter and rotary phones! \n\nWe have a 1910 restored wood caboose which is open for exploration.\n\nCome visit us and get your free "Chatham to Boston" railroad ticket!
X-ALT-DESC;FMTTYPE=text/html:<p style="text-align:justify">Welcome to the Chatham Railroad Museum!</p>\n\n<p style="text-align:justify">We are located in the beautifully restored 1887 railroad depot that served Chatham residents and visitors for nearly fifty years.</p>\n\n<p style="text-align:justify">We have many exhibits including a diorama of the yard layout in 1915 shows the depot with a turntable and the light industry in the area. Our &ldquo\;Chatham Railroad&rdquo\; exhibit has models of the South and West Chatham stations.&nbsp\;</p>\n\n<p style="text-align:justify">The agent&#39\;s office has hands on Morse code simulator\, typewriter and rotary phones!&nbsp\;</p>\n\n<p style="text-align:justify">We have a 1910 restored wood caboose which is open for exploration.</p>\n\n<p style="text-align:justify">Come visit us and get your free &ldquo\;Chatham to Boston&rdquo\; railroad ticket!&nbsp\;&nbsp\;</p>\n
LOCATION:153 Depot Street
UID:e.2437.29370
SEQUENCE:3
DTSTAMP:20260424T065308Z
URL:https://business.chathaminfo.com/events/details/chatham-railroad-museum-06-12-2026-29370
END:VEVENT

END:VCALENDAR
