BEGIN:VCALENDAR
VERSION:2.0
PRODID:-//ChamberMaster//Event Calendar 2.0//EN
METHOD:PUBLISH
X-PUBLISHED-TTL:P3D
REFRESH-INTERVAL:P3D
CALSCALE:GREGORIAN
BEGIN:VEVENT
DTSTART;VALUE=DATE:20221124
DTEND;VALUE=DATE:20221125
TRANSP:TRANSPARENT
X-MICROSOFT-CDO-ALLDAYEVENT:TRUE
SUMMARY:Chatham Turkey Trot - 2022
DESCRIPTION:The Chatham Turkey Trot is a family-friendly fun Thanksgiving morning run or walk over 3.1 miles of winding and rolling paved roads with breathtaking scenery in Chatham\, Massachusetts\, to benefit the Lower Cape Outreach Council.\n\nThis year we are excited to announce that we are back in-person!  This year the race will be professionally timed.  The first 1000 in-person registrants will get a free Turkey Trot t-shirt!  Gather your family and friends and join us on Thanksgiving morning for this 5K event.  Please feel free to tag us in your photos with #chathamturkeytrot2022 on social media.\n\nThank you for continuing to support the Lower Cape Outreach Council and the residents on the Lower and Outer Cape.\n\nRegistration fees:       $30/person in person before November 10th\; Virtual Option available $20/person. \n\n$35/person Between November 10th and November 22nd.\n\n$40/person day of registration.  \n\n \n\n \n\nImportant dates:\n\n\n	Registration: Open September 8 - November 22\, 2022\n	Registration Pick Up: Registration pick up will be on Wednesday\, November 23 2pm to 7pm at the Chatham Community Center.  You can also pick up your registration on the day of the race!\n	See you on Thanksgiving morning! November 24\, 2022 at 8AM.
X-ALT-DESC;FMTTYPE=text/html:<p style="box-sizing: inherit\; font-size: 1.2rem\; padding: 0px\; margin: 0px 0px 10px\; line-height: 1.8rem\; color: rgb(85\, 85\, 85)\; font-family: Roboto\, &quot\;Helvetica Neue&quot\;\, Helvetica\, sans-serif\; background-color: rgb(255\, 255\, 255)\;">The Chatham Turkey Trot is a family-friendly fun Thanksgiving morning run or walk over 3.1 miles of winding and rolling paved roads with breathtaking scenery in Chatham\, Massachusetts\, to benefit the Lower Cape Outreach Council.</p>\n\n<p style="box-sizing: inherit\; font-size: 1.2rem\; padding: 0px\; margin: 0px 0px 10px\; line-height: 1.8rem\; color: rgb(85\, 85\, 85)\; font-family: Roboto\, &quot\;Helvetica Neue&quot\;\, Helvetica\, sans-serif\; background-color: rgb(255\, 255\, 255)\;">This year we are excited to announce that we are back in-person!&nbsp\; This year the race will be professionally timed.&nbsp\; The first 1000 in-person registrants will get a free Turkey Trot t-shirt!&nbsp\; Gather your family and friends and join us on Thanksgiving morning for this 5K event.&nbsp\; Please feel free to tag us in your photos with #chathamturkeytrot2022 on social media.</p>\n\n<p style="box-sizing: inherit\; font-size: 1.2rem\; padding: 0px\; margin: 0px 0px 10px\; line-height: 1.8rem\; color: rgb(85\, 85\, 85)\; font-family: Roboto\, &quot\;Helvetica Neue&quot\;\, Helvetica\, sans-serif\; background-color: rgb(255\, 255\, 255)\;">Thank you for continuing to support the Lower Cape Outreach Council and the residents on the Lower and Outer Cape.</p>\n\n<p style="box-sizing: inherit\; font-size: 1.2rem\; padding: 0px\; margin: 0px 0px 10px\; line-height: 1.8rem\; color: rgb(85\, 85\, 85)\; font-family: Roboto\, &quot\;Helvetica Neue&quot\;\, Helvetica\, sans-serif\; background-color: rgb(255\, 255\, 255)\;"><span style="box-sizing: inherit\; text-decoration-line: underline\;"><strong style="box-sizing: inherit\;">Registration fees</strong></span><strong style="box-sizing: inherit\;">:</strong>&nbsp\;&nbsp\;&nbsp\;&nbsp\;&nbsp\;&nbsp\; $30/person in person before November 10th\; Virtual Option available $20/person.&nbsp\;</p>\n\n<p style="box-sizing: inherit\; font-size: 1.2rem\; padding: 0px\; margin: 0px 0px 10px\; line-height: 1.8rem\; color: rgb(85\, 85\, 85)\; font-family: Roboto\, &quot\;Helvetica Neue&quot\;\, Helvetica\, sans-serif\; background-color: rgb(255\, 255\, 255)\;">$35/person Between November 10th and November 22nd.</p>\n\n<p style="box-sizing: inherit\; font-size: 1.2rem\; padding: 0px\; margin: 0px 0px 10px\; line-height: 1.8rem\; color: rgb(85\, 85\, 85)\; font-family: Roboto\, &quot\;Helvetica Neue&quot\;\, Helvetica\, sans-serif\; background-color: rgb(255\, 255\, 255)\;">$40/person day of registration.&nbsp\;&nbsp\;</p>\n\n<p style="box-sizing: inherit\; font-size: 1.2rem\; padding: 0px\; margin: 0px 0px 10px\; line-height: 1.8rem\; color: rgb(85\, 85\, 85)\; font-family: Roboto\, &quot\;Helvetica Neue&quot\;\, Helvetica\, sans-serif\; background-color: rgb(255\, 255\, 255)\;">&nbsp\;</p>\n\n<p style="box-sizing: inherit\; font-size: 1.2rem\; padding: 0px\; margin: 0px 0px 10px\; line-height: 1.8rem\; color: rgb(85\, 85\, 85)\; font-family: Roboto\, &quot\;Helvetica Neue&quot\;\, Helvetica\, sans-serif\; background-color: rgb(255\, 255\, 255)\;">&nbsp\;</p>\n\n<p style="box-sizing: inherit\; font-size: 1.2rem\; padding: 0px\; margin: 0px 0px 10px\; line-height: 1.8rem\; color: rgb(85\, 85\, 85)\; font-family: Roboto\, &quot\;Helvetica Neue&quot\;\, Helvetica\, sans-serif\; background-color: rgb(255\, 255\, 255)\;"><strong style="box-sizing: inherit\;"><span style="box-sizing: inherit\; text-decoration-line: underline\;">Important dates:</span></strong></p>\n\n<ul style="box-sizing: inherit\; color: rgb(85\, 85\, 85)\; font-family: Roboto\, &quot\;Helvetica Neue&quot\;\, Helvetica\, sans-serif\; font-size: 15.4px\; background-color: rgb(255\, 255\, 255)\;">\n	<li style="box-sizing: inherit\;"><strong style="box-sizing: inherit\;">Registration</strong>: Open September 8 - November 22\, 2022</li>\n	<li style="box-sizing: inherit\;"><b style="box-sizing: inherit\;">Registration Pick Up:</b>&nbsp\;Registration pick up will be on Wednesday\, November 23 2pm to 7pm at the Chatham Community Center.&nbsp\; You can also pick up your registration on the day of the race!</li>\n	<li style="box-sizing: inherit\;"><b style="box-sizing: inherit\;">See you on Thanksgiving morning! November 24\, 2022 at 8AM.</b></li>\n</ul>\n
LOCATION:
UID:e.2437.19590
SEQUENCE:3
DTSTAMP:20260422T130151Z
URL:https://business.chathaminfo.com/events/details/chatham-turkey-trot-2022-19590
END:VEVENT

END:VCALENDAR
