BEGIN:VCALENDAR
VERSION:2.0
PRODID:-//ChamberMaster//Event Calendar 2.0//EN
METHOD:PUBLISH
X-PUBLISHED-TTL:P3D
REFRESH-INTERVAL:P3D
CALSCALE:GREGORIAN
BEGIN:VEVENT
DTSTART:20221231T150000Z
DTEND:20221231T210000Z
X-MICROSOFT-CDO-ALLDAYEVENT:FALSE
SUMMARY:Cookies and Cocoa with The Girl Scouts and The Black Dog
DESCRIPTION:Come on over to The Black Dog and meet up with The Girl Scouts to get your favorites cookies. We will also be offering cookies and cocoa from 12-6pm!
X-ALT-DESC;FMTTYPE=text/html:<span style="background-color:rgb(255\, 255\, 255)\; color:rgb(51\, 51\, 51)\; font-family:sans-serif\,arial\,verdana\,trebuchet ms\; font-size:13px">Come on over to The Black Dog and meet up with The Girl Scouts to get your favorites cookies. We will also be offering cookies and cocoa from 12-6pm!</span>
LOCATION:628 Main St Chatham
UID:e.2437.19643
SEQUENCE:3
DTSTAMP:20260422T093553Z
URL:https://business.chathaminfo.com/events/details/cookies-and-cocoa-with-the-girl-scouts-and-the-black-dog-19643
END:VEVENT

END:VCALENDAR
