BEGIN:VCALENDAR
VERSION:2.0
PRODID:-//ChamberMaster//Event Calendar 2.0//EN
METHOD:PUBLISH
X-PUBLISHED-TTL:P3D
REFRESH-INTERVAL:P3D
CALSCALE:GREGORIAN
BEGIN:VEVENT
DTSTART:20230422T130000Z
DTEND:20230422T160000Z
X-MICROSOFT-CDO-ALLDAYEVENT:FALSE
SUMMARY:Earth Day town-wide roadside clean-up
DESCRIPTION:Please join the Chatham Conservation Foundation\, Boy Scouts\, Garden Club and others in a town-wide trash clean-up. Meet at the Mayo House at 540 Main Street to get supplies and be directed to an assigned location.
X-ALT-DESC;FMTTYPE=text/html:<span style="font-size:18px\;">Please join the Chatham Conservation Foundation\, Boy Scouts\, Garden Club and others in a town-wide trash clean-up. Meet at the Mayo House at 540 Main Street to get supplies and be directed to an assigned location.</span>
LOCATION:
UID:e.2437.20000
SEQUENCE:3
DTSTAMP:20260421T181542Z
URL:https://business.chathaminfo.com/events/details/earth-day-town-wide-roadside-clean-up-20000
END:VEVENT

END:VCALENDAR
