BEGIN:VCALENDAR
VERSION:2.0
PRODID:-//ChamberMaster//Event Calendar 2.0//EN
METHOD:PUBLISH
X-PUBLISHED-TTL:P3D
REFRESH-INTERVAL:P3D
CALSCALE:GREGORIAN
BEGIN:VEVENT
DTSTART:20230408T150000Z
DTEND:20230408T160000Z
X-MICROSOFT-CDO-ALLDAYEVENT:FALSE
SUMMARY:Easter Egg Hunt At Kate Gould Park!
DESCRIPTION:It's that time of year again .... so hop on over and or even run - The Easter Bunny's on his way to Kate Gould Park on Saturday\, April 8 with treats for girls and boys with Easter candy eggs - don't miss out on all the fun!!!\n\nAmong the candy eggs hidden in the park try to discover a prize egg and win an Easter basket filled with goodies!" \n\n\n\nSponsored by the Chatham Chamber of Commerce & Merchants' Association. Candy donated by Chatham Candy Manor.\n\nFor Easter Egg Hunt FAQS\, please click here\n\n \n\n\n\n\n\nTHIS EVENT WILL BE CANCELLED ONLY IF THERE IS A MAJOR DOWNPOUR!!!
X-ALT-DESC;FMTTYPE=text/html:<p style="margin: 0px 0px 1em\; padding: 0px\; color: rgb(0\, 0\, 0)\; font-family: Arial\, Helvetica\, sans-serif\; font-size: 14px\;"><br />\n<br />\n<span style="font-size:18px\;">It&#39\;s that time of year again .... so hop on over and or even run - The Easter Bunny&#39\;s on his way to Kate Gould Park on <strong>Saturday\, April 8&nbsp\;</strong>with treats for girls and boys with&nbsp\;Easter&nbsp\;candy&nbsp\;eggs - don&#39\;t miss out on all the fun!!!</span></p>\n\n<p style="margin: 0px 0px 1em\; padding: 0px\; color: rgb(0\, 0\, 0)\; font-family: Arial\, Helvetica\, sans-serif\; font-size: 14px\;"><span style="font-size:18px\;">Among the candy eggs hidden in the park try to discover a prize egg and win an Easter basket filled with goodies!&quot\;&nbsp\;<br style="margin: 0px\; padding: 0px\;" />\n<br style="margin: 0px\; padding: 0px\;" />\nSponsored by the Chatham Chamber of Commerce &amp\; Merchants&#39\; Association. Candy donated by Chatham Candy Manor.</span></p>\n\n<p style="margin: 0px 0px 1em\; padding: 0px\; color: rgb(0\, 0\, 0)\; font-family: Arial\, Helvetica\, sans-serif\; font-size: 14px\;"><span style="font-size:18px\;">For Easter Egg Hunt FAQS\, please click <a href="https://chambermaster.blob.core.windows.net/userfiles/UserFiles/chambers/2437/File/EasterEggHuntFAQs1.pdf"><strong>here</strong></a></span><br />\n&nbsp\;</p>\n\n<p style="margin: 0px 0px 1em\; padding: 0px\; color: rgb(0\, 0\, 0)\; font-family: Arial\, Helvetica\, sans-serif\; font-size: 14px\;"><br />\n<br />\n<em>THIS EVENT WILL BE&nbsp\;CANCELLED&nbsp\;ONLY IF THERE IS A MAJOR DOWNPOUR!!!</em></p>\n
LOCATION:Kate Gould Park
UID:e.2437.19723
SEQUENCE:3
DTSTAMP:20260423T084715Z
URL:https://business.chathaminfo.com/events/details/easter-egg-hunt-at-kate-gould-park-19723
END:VEVENT

END:VCALENDAR
