BEGIN:VCALENDAR
VERSION:2.0
PRODID:-//ChamberMaster//Event Calendar 2.0//EN
METHOD:PUBLISH
X-PUBLISHED-TTL:P3D
REFRESH-INTERVAL:P3D
CALSCALE:GREGORIAN
BEGIN:VEVENT
DTSTART:20221218T150000Z
DTEND:20221218T210000Z
X-MICROSOFT-CDO-ALLDAYEVENT:FALSE
SUMMARY:Girl Scouts Cookie Sale at The Black Dog
DESCRIPTION:Come on over to The Black Dog and meet up with The Girl Scouts to get your favorites cookies just in time for the holidays!
X-ALT-DESC;FMTTYPE=text/html:<span style="background-color:rgb(255\, 255\, 255)\; color:rgb(51\, 51\, 51)\; font-family:sans-serif\,arial\,verdana\,trebuchet ms\; font-size:13px">Come on over to The Black Dog and meet up with The Girl Scouts to get your favorites cookies just in time for the holidays!</span>
LOCATION:628 Main St Chatham
UID:e.2437.19642
SEQUENCE:3
DTSTAMP:20260422T093636Z
URL:https://business.chathaminfo.com/events/details/girl-scouts-cookie-sale-at-the-black-dog-12-18-2022-19642
END:VEVENT

END:VCALENDAR
