BEGIN:VCALENDAR
VERSION:2.0
PRODID:-//ChamberMaster//Event Calendar 2.0//EN
METHOD:PUBLISH
X-PUBLISHED-TTL:P3D
REFRESH-INTERVAL:P3D
CALSCALE:GREGORIAN
BEGIN:VEVENT
DTSTART:20221215T230000Z
DTEND:20221216T040000Z
X-MICROSOFT-CDO-ALLDAYEVENT:FALSE
SUMMARY:Holiday Party with Chatham Orpheum Theater and Pizza Shark
DESCRIPTION:The Chatham Orpheum Theater and Pizza Shark are having a HOLIDAY PARTY and we are inviting YOU to join us on Thursday\, December 15th!\n\n\n\nParty starts at 6:00 pm with specialty cocktails\, food specials and a costume contest in the lobby!  Wear your ugliest Christmas sweater for a chance to win a prize!\n\n\n\nAt 8:00 pm enjoy a FREE SCREENING of an all-time classic - National Lampoon's CHRISTMAS VACATION.\n\n\n\nStop by the Box Office to reserve your free passes early!
X-ALT-DESC;FMTTYPE=text/html:<span style="font-size:14.0pt">The Chatham Orpheum Theater and Pizza Shark are having a HOLIDAY PARTY and we are inviting YOU to join us on Thursday\, December 15<sup>th</sup>!</span><br />\n<br />\n<span style="font-size:14.0pt">Party starts at 6:00 pm with specialty cocktails\, food specials and a costume contest in the lobby!&nbsp\; Wear your ugliest Christmas sweater for a chance to win a prize!</span><br />\n<br />\n<span style="font-size:14.0pt">At 8:00 pm enjoy a FREE SCREENING of an all-time classic - National Lampoon&rsquo\;s CHRISTMAS VACATION.</span><br />\n<br />\n<span style="font-size:14.0pt">Stop by the Box Office to reserve your free passes early!&nbsp\; </span>
LOCATION:637 Main Street Chatham\, MA 02633 (with plenty of parking behind the theater)
UID:e.2437.19658
SEQUENCE:3
DTSTAMP:20260422T095730Z
URL:https://business.chathaminfo.com/events/details/holiday-party-with-pizza-shark-19658
END:VEVENT

END:VCALENDAR
