BEGIN:VCALENDAR
VERSION:2.0
PRODID:-//ChamberMaster//Event Calendar 2.0//EN
METHOD:PUBLISH
X-PUBLISHED-TTL:P3D
REFRESH-INTERVAL:P3D
CALSCALE:GREGORIAN
BEGIN:VEVENT
DTSTART:20230906T130000Z
DTEND:20230908T200000Z
X-MICROSOFT-CDO-ALLDAYEVENT:FALSE
SUMMARY:Karen Blackwood- Oil\, Plein Air/Studio
DESCRIPTION:Painting The Essence of the Sea Description:\n\nA successful painting is Alive! It evokes emotion and draws the viewer in. The choices you make will mean the difference between high art and low art. What is essential to the painting and what gets in the way of your feelings about the subject or the truth of the subject are important questions to ask. This three-day workshop will focus on what is essential in seascape painting and painting in general. Basic art principles will be demonstrated and discussed as well.\n\nKaren will start the workshop with a morning studio demo. The rest of the first day\, students will be working on value and design sketches and painting from their own coastal plein air painting studies\, sketches and or photo references. The following day will be spent outside in plein air\, painting. Starting with a demo\, Karen will be demonstrating her process of plein air painting. Students will then spend the day painting their own work from nature as Karen comes around to everyone for individual guidance. The last day will be back to the studio to finish either your studio painting or your plein air painting or both. At the end of the last day we'll do an informal group critique
X-ALT-DESC;FMTTYPE=text/html:<p>Painting The Essence of the Sea Description:</p>\n\n<p>A successful painting is Alive! It evokes emotion and draws the viewer in. The choices you make&nbsp\;will mean the difference between high art and low art. What is essential to the painting and what&nbsp\;gets in the way of your feelings about the subject or the truth of the subject are important questions&nbsp\;to ask. This three-day workshop will focus on what is essential in seascape painting and painting&nbsp\;in general. Basic art principles will be demonstrated and discussed as well.</p>\n\n<p>Karen will start the&nbsp\;workshop with a morning studio demo. The rest of the first&nbsp\;day\, students will be working on value and design sketches and painting from their own coastal plein air painting studies\, sketches and or photo references. The following day will be spent outside in plein air\, painting. Starting with a demo\, Karen will be demonstrating her process&nbsp\;of plein air painting. Students will then spend the day painting their own work&nbsp\;from nature as Karen comes around to everyone for individual guidance. The last day will be back to the studio to finish either your studio painting or your plein air painting or both. At the end of the last day we&#39\;ll do an informal group critique</p>\n
LOCATION:Creative Arts Center Chatham Ma
UID:e.2437.19697
SEQUENCE:3
DTSTAMP:20260421T013029Z
URL:https://business.chathaminfo.com/events/details/karen-blackwood-oil-plein-air-studio-19697
END:VEVENT

END:VCALENDAR
