BEGIN:VCALENDAR
VERSION:2.0
PRODID:-//ChamberMaster//Event Calendar 2.0//EN
METHOD:PUBLISH
X-PUBLISHED-TTL:P3D
REFRESH-INTERVAL:P3D
CALSCALE:GREGORIAN
BEGIN:VEVENT
DTSTART:20221217T170000Z
DTEND:20221217T210000Z
X-MICROSOFT-CDO-ALLDAYEVENT:FALSE
SUMMARY:Mocktail Hour at The Black Dog
DESCRIPTION:Come try our new Ginger Beer Mocktails!
X-ALT-DESC;FMTTYPE=text/html:Come try our new Ginger Beer Mocktails!
LOCATION:628 Main St Chatham
UID:e.2437.19645
SEQUENCE:3
DTSTAMP:20260422T093022Z
URL:https://business.chathaminfo.com/events/details/mocktail-hour-at-the-black-dog-12-17-2022-19645
END:VEVENT

END:VCALENDAR
