BEGIN:VCALENDAR
VERSION:2.0
PRODID:-//ChamberMaster//Event Calendar 2.0//EN
METHOD:PUBLISH
X-PUBLISHED-TTL:P3D
REFRESH-INTERVAL:P3D
CALSCALE:GREGORIAN
BEGIN:VEVENT
DTSTART:20221211T170000Z
DTEND:20221211T210000Z
X-MICROSOFT-CDO-ALLDAYEVENT:FALSE
SUMMARY:Mocktail Hour at The Black Dog
DESCRIPTION:Come try our Ginger Beer Mocktails at The Black Dog!
X-ALT-DESC;FMTTYPE=text/html:Come try our Ginger Beer Mocktails at The Black Dog!
LOCATION:628 Main St Chatham
UID:e.2437.19644
SEQUENCE:3
DTSTAMP:20260422T130319Z
URL:https://business.chathaminfo.com/events/details/mocktail-hour-at-the-black-dog-19644
END:VEVENT

END:VCALENDAR
