BEGIN:VCALENDAR
VERSION:2.0
PRODID:-//ChamberMaster//Event Calendar 2.0//EN
METHOD:PUBLISH
X-PUBLISHED-TTL:P3D
REFRESH-INTERVAL:P3D
CALSCALE:GREGORIAN
BEGIN:VEVENT
DTSTART;VALUE=DATE:20190129
DTEND;VALUE=DATE:20190130
TRANSP:TRANSPARENT
X-MICROSOFT-CDO-ALLDAYEVENT:TRUE
SUMMARY:Public Listening Session January 29\, "Waterways Bylaw and Regulations"
DESCRIPTION:Public Listening Session Jan. 29th "Waterways Bylaw and Regulations"\n\n\n\n\n\nA public listening session will be held with Special Town Counsel Attorney Amy Kwesell from KP Law\, on Tuesday\, January 29th\, beginning at 4:00 pm in the large meeting room at the Community Center located at 702 Main St. The purpose of this listening session is to solicit public comments on the consistency between the current waterways Bylaw\, Waterways Regulations\, and State and/or Federal Regulations. No proposed changes to the Bylaw or Regulations will be presented or discussed.
X-ALT-DESC;FMTTYPE=text/html:<strong><span style="font-size: 27pt\;"><span style="font-family: georgia\,serif\;"><span style="color: rgb(13\, 102\, 145)\;">Public Listening Session Jan. 29th &quot\;Waterways Bylaw and Regulations&quot\;</span></span></span></strong><br />\n<br />\n<br />\n<span style="font-size: 13.5pt\;"><span style="font-family: helvetica\,sans-serif\;"><span style="color: rgb(68\, 68\, 68)\;">A public listening session will be held with Special Town Counsel Attorney Amy Kwesell from KP Law\, on Tuesday\, January 29th\, beginning at 4:00 pm in the large meeting room at the Community Center located at 702 Main St. The purpose of this listening session is to solicit public comments on the consistency between the current waterways Bylaw\, Waterways Regulations\, and State and/or Federal Regulations. No proposed changes to the Bylaw or Regulations will be presented or discussed.</span></span></span><br />\n&nbsp\;
LOCATION:Chatham Community Center 702 Main Street\, Chatham
UID:e.2437.8044
SEQUENCE:3
DTSTAMP:20260424T055328Z
URL:https://business.chathaminfo.com/events/details/public-listening-session-january-29-waterways-bylaw-and-regulations-8044
END:VEVENT

END:VCALENDAR
