BEGIN:VCALENDAR
VERSION:2.0
PRODID:-//ChamberMaster//Event Calendar 2.0//EN
METHOD:PUBLISH
X-PUBLISHED-TTL:P3D
REFRESH-INTERVAL:P3D
CALSCALE:GREGORIAN
BEGIN:VEVENT
DTSTART:20191113T133000Z
DTEND:20191113T150000Z
X-MICROSOFT-CDO-ALLDAYEVENT:FALSE
SUMMARY:SCORE WORKSHOP - CREATING THE BRAND CALLED " .... " BUILDING YOUR BUSINESS INTO A RELEVANT BRAND
DESCRIPTION:CREATING THE BRAND CALLED "_______". BUILDING YOUR BUSINESS INTO A RELEVANT BRAND.   If you don't have a clearly defined point of difference on which to build your brand then you'll find it tough to succeed. This workshop will focus on how to identify and define the point of difference and then how to translate that into a brand statement.  Participants will leave with the tools needed to create a differentiated brand positioning that will resonate with your target consumer.     \n\n       \n\nDATE: NOVEMBER 13                                   \n\n\n\nLOCATION: CHATHAM COMMUNITY CENTER\n\n\n\nCLICK ON THE FOLLOWING LINK TO REGISTER: \n\n http://events.constantcontact.com/register/event?llr=nx8wfgcab&oeidk=a07egkp5j5xea121f05
X-ALT-DESC;FMTTYPE=text/html:<p><strong><span style="color:black\;">CREATING THE BRAND CALLED &ldquo\;_______&rdquo\;. BUILDING YOUR BUSINESS INTO A RELEVANT BRAND.</span></strong><span style="color:black\;">&nbsp\; &nbsp\;If you don&rsquo\;t have a clearly defined point of difference on which to build your brand then you&rsquo\;ll find it tough to succeed. This workshop will focus on how to identify and define the point of difference and then how to translate that into a brand statement.&nbsp\; Participants will leave with the tools needed to create a differentiated brand positioning that will resonate with your target consumer. </span>&nbsp\;&nbsp\;&nbsp\;&nbsp\;<br />\n&nbsp\;&nbsp\;&nbsp\;&nbsp\;&nbsp\;&nbsp\;&nbsp\;<br />\n<strong>DATE: NOVEMBER 13&nbsp\;&nbsp\;&nbsp\;&nbsp\;&nbsp\;&nbsp\;&nbsp\;&nbsp\;&nbsp\;&nbsp\;&nbsp\;&nbsp\;&nbsp\;&nbsp\;&nbsp\;&nbsp\;&nbsp\;&nbsp\;&nbsp\;&nbsp\;&nbsp\;&nbsp\;&nbsp\;&nbsp\;&nbsp\;&nbsp\;&nbsp\;&nbsp\;&nbsp\;&nbsp\;&nbsp\;&nbsp\;&nbsp\;&nbsp\;&nbsp\;<br />\n<br />\nLOCATION: CHATHAM COMMUNITY CENTER</strong><br />\n<br />\n<strong>CLICK ON THE FOLLOWING LINK TO REGISTER</strong>:&nbsp\;</p>\n\n<p>&nbsp\;<a href="http://events.constantcontact.com/register/event?llr=nx8wfgcab&amp\;oeidk=a07egkp5j5xea121f05">http://events.constantcontact.com/register/event?llr=nx8wfgcab&amp\;oeidk=a07egkp5j5xea121f05</a></p>\n
LOCATION:Chatham Community Center 702 Main Street Chatham\, MA
UID:e.2437.13183
SEQUENCE:3
DTSTAMP:20260424T192255Z
URL:https://business.chathaminfo.com/events/details/score-workshop-creating-the-brand-called-building-your-business-into-a-relevant-brand-13183
END:VEVENT

END:VCALENDAR
