BEGIN:VCALENDAR
VERSION:2.0
PRODID:-//ChamberMaster//Event Calendar 2.0//EN
METHOD:PUBLISH
X-PUBLISHED-TTL:P3D
REFRESH-INTERVAL:P3D
CALSCALE:GREGORIAN
BEGIN:VEVENT
DTSTART:20230419T131500Z
DTEND:20230419T161500Z
X-MICROSOFT-CDO-ALLDAYEVENT:FALSE
SUMMARY:Steve Kennedy - Oil/Acrylic - Studio
DESCRIPTION:Learn how to get more out of your painting experience\, as Steve walks you through the how to's of painting: how to make perspective work in your paintings\, how to create a strong abstract underpinning to your representational art\, how to see and paint intuitively\, how to paint atmosphere and much more.  Beginners to advanced are welcomed.  Oils\, acrylic.
X-ALT-DESC;FMTTYPE=text/html:<span style="background-color:rgb(222\, 231\, 248)\; color:rgba(26\, 26\, 26\, 0.7)\; font-family:adobe-garamond-pro\; font-size:18px">Learn how to get more out of your painting experience\, as Steve walks you through the how to&#39\;s of painting: how to make perspective work in your paintings\, how to create a strong abstract underpinning to your representational art\, how to see and paint intuitively\, how to paint atmosphere and much more.&nbsp\; Beginners to advanced are welcomed.&nbsp\; Oils\, acrylic.</span>
LOCATION:154 Crowell Road Chatham\, Ma 02633
UID:e.2437.19736
SEQUENCE:3
DTSTAMP:20260419T155533Z
URL:https://business.chathaminfo.com/events/details/steve-kennedy-oil-acrylic-studio-19736
END:VEVENT

END:VCALENDAR
