BEGIN:VCALENDAR
VERSION:2.0
PRODID:-//ChamberMaster//Event Calendar 2.0//EN
METHOD:PUBLISH
X-PUBLISHED-TTL:P3D
REFRESH-INTERVAL:P3D
CALSCALE:GREGORIAN
BEGIN:VEVENT
DTSTART:20230211T140000Z
DTEND:20230211T153000Z
X-MICROSOFT-CDO-ALLDAYEVENT:FALSE
SUMMARY:The Gills Club Monthly Meeting
DESCRIPTION:Join the Gills Club at the Shark Center Chatham at 9am on Saturday February 11th to learn about Gills Club scientist Dr. Michelle Passerotti! Through hands-on activities\, youth will learn about Michelle's work with understanding growth and aging of sharks. \n\n \n\nThe Gills Club is the Atlantic White Shark Conservancy's STEM-based education initiative dedicated to connecting girls with female scientists from around the world\, sharing knowledge\, and inspiring the next generation of shark and ocean advocates.\n\n \n\nThis event is targeted for youth in 2nd-5th grade and requires all youth to have a guardian attend with them.\n\n\nThis is not a drop-off program. Parents/Guardians are required to stay with youth for the 90 minute program.\n\n\n\nThis educational event is free\, but due to capacity limits\, does require registration. Please register each child individually\, even if they're part of the same family/group.\n\n\n\n\n\n\nREGISTER HERE
X-ALT-DESC;FMTTYPE=text/html:<span style="color:rgb(32\, 33\, 36)\; font-family:roboto\,arial\,sans-serif\; font-size:14.6667px">Join the Gills Club at the Shark Center Chatham at 9am on Saturday February 11th to learn about Gills Club scientist Dr. Michelle Passerotti! Through hands-on activities\, youth will learn about Michelle&#39\;s work with understanding growth and aging of sharks.&nbsp\;</span>\n<div>\n<div>&nbsp\;</div>\n\n<div>The Gills Club is the Atlantic White Shark Conservancy&#39\;s STEM-based education initiative dedicated to connecting girls with female scientists from around the world\, sharing knowledge\, and inspiring the next generation of shark and ocean advocates.</div>\n\n<div>&nbsp\;</div>\n\n<div>This event is targeted for youth in 2nd-5th grade and requires all youth to have a guardian attend&nbsp\;with them.\n<div><br />\nThis is not a drop-off program. Parents/Guardians are required to stay with youth for the 90 minute program.<br />\n<br />\nThis educational event is free\, but due to capacity limits\, does require registration. Please register each child individually\, even if they&#39\;re part of the same family/group.</div>\n</div>\n</div>\n<br />\n<br />\n<span style="color:rgb(0\, 0\, 0)\; font-family:helvetica\; font-size:12px"><a href="https://docs.google.com/forms/d/e/1FAIpQLSeoQukbq1uIKJ_KEKjds6OaMBb_XffygzDknO3CZHw1sA53xQ/viewform">REGISTER HERE</a></span>
LOCATION:Shark Center Chatham 235 Orleans Rd. Chatham\, MA 02650
UID:e.2437.19669
SEQUENCE:3
DTSTAMP:20260422T045126Z
URL:https://business.chathaminfo.com/events/details/the-gills-club-monthly-meeting-02-11-2023-19669
END:VEVENT

END:VCALENDAR
