BEGIN:VCALENDAR
VERSION:2.0
PRODID:-//ChamberMaster//Event Calendar 2.0//EN
METHOD:PUBLISH
X-PUBLISHED-TTL:P3D
REFRESH-INTERVAL:P3D
CALSCALE:GREGORIAN
BEGIN:VEVENT
DTSTART:20230121T140000Z
DTEND:20230121T153000Z
X-MICROSOFT-CDO-ALLDAYEVENT:FALSE
SUMMARY:The Gills Club Monthly Meeting
DESCRIPTION:Join the Gills Club at the Shark Center Chatham at 9am on Saturday January 21st to learn about Gills Club scientist Vicky Vasquez! Through hands-on activities\, youth will learn about Vicky's work with deep-sea sharks\, discovering a new species\, and how to study the deep ocean. \n\n\n\nThe Gills Club is the Atlantic White Shark Conservancy's STEM-based education initiative dedicated to connecting girls with female scientists from around the world\, sharing knowledge\, and inspiring the next generation of shark and ocean advocates.\n\n\n\nThis event is targeted for youth in 2nd-5th grade and requires all youth to have a guardian attend with them.\n\n\n\nThis is not a drop-off program. Parents/Guardians are required to stay with youth for the 90 minute program.\n\n\n\nThis educational event is free\, but due to capacity limits\, does require registration. Please register each child individually\, even if they're part of the same family/group.\n\n\n\nREGISTER HERE
X-ALT-DESC;FMTTYPE=text/html:<span style="color:rgb(0\, 0\, 0)\; font-family:helvetica\; font-size:12px">Join the Gills Club at the Shark Center Chatham at 9am on Saturday January 21st to learn about Gills Club scientist Vicky Vasquez! Through hands-on activities\, youth will learn about Vicky&#39\;s work with deep-sea sharks\, discovering a new species\, and how to study the deep ocean. </span><br />\n<br />\n<span style="color:rgb(0\, 0\, 0)\; font-family:helvetica\; font-size:12px">The Gills Club is the Atlantic White Shark Conservancy&#39\;s STEM-based education initiative dedicated to connecting girls with female scientists from around the world\, sharing knowledge\, and inspiring the next generation of shark and ocean advocates.</span><br />\n<br />\n<span style="color:rgb(0\, 0\, 0)\; font-family:helvetica\; font-size:12px">This event is targeted for youth in 2nd-5th grade and requires all youth to have a guardian attend with them.</span><br />\n<br />\n<span style="color:rgb(0\, 0\, 0)\; font-family:helvetica\; font-size:12px">This is not a drop-off program. Parents/Guardians are required to stay with youth for the 90 minute program.</span><br />\n<br />\n<span style="color:rgb(0\, 0\, 0)\; font-family:helvetica\; font-size:12px">This educational event is free\, but due to capacity limits\, does require registration. Please register each child individually\, even if they&#39\;re part of the same family/group.<br />\n<br />\n<a href="https://docs.google.com/forms/d/e/1FAIpQLSdhxrDNrUL4KwUkCNoUVRr-99qUl9NjCDsDYft4wiV2-x86SQ/viewform">REGISTER HERE</a></span>
LOCATION:Shark Center Chatham 235 Orleans Rd. Chatham\, MA 02650
UID:e.2437.19660
SEQUENCE:3
DTSTAMP:20260422T093252Z
URL:https://business.chathaminfo.com/events/details/the-gills-club-monthly-meeting-19660
END:VEVENT

END:VCALENDAR
