BEGIN:VCALENDAR
VERSION:2.0
PRODID:-//ChamberMaster//Event Calendar 2.0//EN
METHOD:PUBLISH
X-PUBLISHED-TTL:P3D
REFRESH-INTERVAL:P3D
CALSCALE:GREGORIAN
BEGIN:VEVENT
DTSTART:20230311T150000Z
DTEND:20230311T160000Z
X-MICROSOFT-CDO-ALLDAYEVENT:FALSE
SUMMARY:Tracking the Land Mammals of Cape Cod Speaker: Todd Kelley FREE Webinar sponsored by the members of the Chatham Conservation Foundation
DESCRIPTION:Learn about the art of tracking in this webinar presenting images of different tracks and sign from the mammals on Cape Cod for us to properly identify. We will learn a little about the universal "science" of the track and accumulate some virtual "dirt" time in our exploration of animal behaviors and how that translates through the tracks they leave behind. We'll connect animal adaptations as well to the changing seasons along with more about their natural histories.\n\n?\n\nNaturalist Todd Kelley is a retired Nickerson Sate Park Interpreter\, an old Cape family descendant and local cultural historian.\n\n?
X-ALT-DESC;FMTTYPE=text/html:<p>Learn about the art of tracking in this webinar presenting images of different tracks and sign from the mammals on Cape Cod for us to properly identify. We will learn a little about the universal &ldquo\;science&rdquo\; of the track and accumulate some virtual &ldquo\;dirt&rdquo\; time in our exploration of animal behaviors and how that translates through the tracks they leave behind. We&rsquo\;ll connect animal adaptations as well to the changing seasons along with more about their natural histories.</p>\n\n<p>?</p>\n\n<p>Naturalist&nbsp\;<em>Todd Kelley</em>&nbsp\;is a retired Nickerson Sate Park Interpreter\, an old Cape family descendant and local cultural historian.</p>\n\n<h2>?</h2>\n
LOCATION:Virtual on Zoom
UID:e.2437.19706
SEQUENCE:3
DTSTAMP:20260422T064418Z
URL:https://business.chathaminfo.com/events/details/tracking-the-land-mammals-of-cape-cod-speaker-todd-kelley-free-webinar-sponsored-by-the-members-of-the-chatham-conservation-foundation-19706
END:VEVENT

END:VCALENDAR
