BEGIN:VCALENDAR
VERSION:2.0
PRODID:-//ChamberMaster//Event Calendar 2.0//EN
METHOD:PUBLISH
X-PUBLISHED-TTL:P3D
REFRESH-INTERVAL:P3D
CALSCALE:GREGORIAN
BEGIN:VEVENT
DTSTART:20231021T233000Z
DTEND:20231022T013000Z
X-MICROSOFT-CDO-ALLDAYEVENT:FALSE
SUMMARY:Trish LaRose: Come On-A My House
DESCRIPTION:Trish LaRose: Come On-A My House\n\nConceived by Trish LaRose\n\nWritten by Trish LaRose & Maura Hanlon\n\nDirected by Maura Hanlon\n\nMusical Director Michael Dunford\n\n\n\nOctober 19 - November 12\n\nThursday - Saturday at 7 pm\, Sunday at 2 pm\n\nIn the Indoor Theater\n\nTickets $40\, 25 and under $25\n\nInspired by the brilliance of legendary one woman shows from the likes of Bette Midler and Chita Rivera\, Trish LaRose weaves story and song into a show filled with heart\, sass and laughs! Backed by a stellar six-piece band\, Trish invites you on a candid\, eclectic journey about life as a New Yorker\, becoming a mother\, and discovering her inherent connection to Puerto Rico goes deeper than she could have imagined. Trish leaves no stone unturned with a diverse song list spanning Sondheim to Stevie Wonder\, Whitney Houston to Rosemary Clooney.
X-ALT-DESC;FMTTYPE=text/html:Trish LaRose: Come On-A My House<br>\nConceived by Trish LaRose<br>\nWritten by Trish LaRose &amp\; Maura Hanlon<br>\nDirected by Maura Hanlon<br>\nMusical Director Michael Dunford<br>\n<br>\nOctober 19 - November 12<br>\nThursday - Saturday at 7 pm\, Sunday at 2 pm<br>\nIn the Indoor Theater<br>\nTickets $40\, 25 and under $25<br>\nInspired by the brilliance of legendary one woman shows from the likes of Bette Midler and Chita Rivera\, Trish LaRose weaves story and song into a show filled with heart\, sass and laughs! Backed by a stellar six-piece band\, Trish invites you on a candid\, eclectic journey about life as a New Yorker\, becoming a mother\, and discovering her inherent connection to Puerto Rico goes deeper than she could have imagined. Trish leaves no stone unturned with a diverse song list spanning Sondheim to Stevie Wonder\, Whitney Houston to Rosemary Clooney.
LOCATION:Cape Rep Indoor Theater 3299 Rte 6A\, Brewster MA 02631
UID:e.2437.20982
SEQUENCE:3
DTSTAMP:20260419T223613Z
URL:https://business.chathaminfo.com/events/details/trish-larose-come-on-a-my-house-10-21-2023-20982
END:VEVENT

END:VCALENDAR
