BEGIN:VCALENDAR
VERSION:2.0
PRODID:-//ChamberMaster//Event Calendar 2.0//EN
METHOD:PUBLISH
X-PUBLISHED-TTL:P3D
REFRESH-INTERVAL:P3D
CALSCALE:GREGORIAN
BEGIN:VEVENT
DTSTART:20221210T160000Z
DTEND:20221210T200000Z
X-MICROSOFT-CDO-ALLDAYEVENT:FALSE
SUMMARY:Young Women's Club at The Black Dog
DESCRIPTION:The Young Women's Club will be at The Black Dog raising money for the Independence House in Hyannis
X-ALT-DESC;FMTTYPE=text/html:The Young Women&#39\;s Club will be at The Black Dog raising money for the Independence House in Hyannis
LOCATION:The Black Dog 628 Main St Chatham\, Ma
UID:e.2437.19651
SEQUENCE:3
DTSTAMP:20260422T144905Z
URL:https://business.chathaminfo.com/events/details/young-women-s-club-at-the-black-dog-19651
END:VEVENT

END:VCALENDAR
